BEGIN:VCALENDAR
VERSION:2.0
PRODID:-//Mohali Senior Citizens Association - ECPv6.15.20//NONSGML v1.0//EN
CALSCALE:GREGORIAN
METHOD:PUBLISH
X-WR-CALNAME:Mohali Senior Citizens Association
X-ORIGINAL-URL:https://mscamohali.com/w
X-WR-CALDESC:Events for Mohali Senior Citizens Association
REFRESH-INTERVAL;VALUE=DURATION:PT1H
X-Robots-Tag:noindex
X-PUBLISHED-TTL:PT1H
BEGIN:VTIMEZONE
TZID:Asia/Kolkata
BEGIN:STANDARD
TZOFFSETFROM:+0530
TZOFFSETTO:+0530
TZNAME:IST
DTSTART:20240101T000000
END:STANDARD
END:VTIMEZONE
BEGIN:VEVENT
DTSTART;TZID=Asia/Kolkata:20251018T103000
DTEND;TZID=Asia/Kolkata:20251018T120000
DTSTAMP:20260420T211509
CREATED:20251016T145411Z
LAST-MODIFIED:20260130T123400Z
UID:3157-1760783400-1760788800@mscamohali.com
SUMMARY:Talk on Technology for Seniors
DESCRIPTION:Digital Literacy Made Easy \nTalk by S. Guldeep Singh \n 
URL:https://mscamohali.com/w/event/talk-on-technology-for-seniors/
LOCATION:LAF Centre\, MPPJ+8FQ\, Sector 68\, Sahibzada Ajit Singh Nagar\, Punjab 160062\, LAF Centre\, MPPJ+8FQ\, Sector 68\, Sahibzada Ajit Singh Nagar\, Punjab\, 160062\, India
CATEGORIES:Events at LAF Centre
END:VEVENT
END:VCALENDAR