BEGIN:VCALENDAR
VERSION:2.0
PRODID:-//Mohali Senior Citizens Association - ECPv6.15.20//NONSGML v1.0//EN
CALSCALE:GREGORIAN
METHOD:PUBLISH
X-ORIGINAL-URL:https://mscamohali.com/w
X-WR-CALDESC:Events for Mohali Senior Citizens Association
REFRESH-INTERVAL;VALUE=DURATION:PT1H
X-Robots-Tag:noindex
X-PUBLISHED-TTL:PT1H
BEGIN:VTIMEZONE
TZID:Asia/Kolkata
BEGIN:STANDARD
TZOFFSETFROM:+0530
TZOFFSETTO:+0530
TZNAME:IST
DTSTART:20240101T000000
END:STANDARD
END:VTIMEZONE
BEGIN:VEVENT
DTSTART;VALUE=DATE:20251101
DTEND;VALUE=DATE:20251203
DTSTAMP:20260424T060322
CREATED:20251029T082503Z
LAST-MODIFIED:20251031T130456Z
UID:3197-1761955200-1764719999@mscamohali.com
SUMMARY:Schedule for MSCA Annual Sports Meet 2025
DESCRIPTION:Schedule for MSCA Sports 2025 \nSr. Date/Time Event Venue \n\n01/11/2025-09.30 am….. Inauguration……  LAF\, Sector 68\n01/11/2025-10.00 am….. Table Tennis……  LAF\, Sector 68\n02/11/2025-03.00 pm….. Sudoku/Mathdocu……  LAF\, Sector 68\n03/11/2025-07.00 am ….. LawnTennis….. Phase 3A\n04/11/2025-10.00 am….. Chess…..  LAF\, Sector 68\n06/11/2025-10.00 am….. Cards….. LAF\, Sector 68\n09/11/2025-10.00 am… Croquet….. Paragon 71\n10/11/2025-10.00 am… Carrom….. Sarvhitkari School\, Sec 71\n11/11/2025-10.00 am… Atheletics….. Golden Bell School\, Sec 77\n12/11/2025-10.00 am… Badminton….. To be intimated later
URL:https://mscamohali.com/w/event/msca-13th-dr-a-s-khehra-memorial-annual-sports-meet-2025-2/
LOCATION:LAF Centre\, MPPJ+8FQ\, Sector 68\, Sahibzada Ajit Singh Nagar\, Punjab 160062\, LAF Centre\, MPPJ+8FQ\, Sector 68\, Sahibzada Ajit Singh Nagar\, Punjab\, 160062\, India
END:VEVENT
BEGIN:VEVENT
DTSTART;TZID=Asia/Kolkata:20251104T140000
DTEND;TZID=Asia/Kolkata:20251104T150000
DTSTAMP:20260424T060322
CREATED:20251031T130925Z
LAST-MODIFIED:20251031T130925Z
UID:3982-1762264800-1762268400@mscamohali.com
SUMMARY:Health Checkup Camp with the support of "Gini Health Care" 
DESCRIPTION:A Health Checkup Camp for senior citizens with the support of “Gini Health Care”   will be held as follows :\nDate & Time: 04/ November/2025 from 2 pm to 3 pm.\nVenue:- Community Centre\, Phase 7\, Mohali.\nInvestigations:- \n\nBlood Pressure\,\nBone Density\,\nBMD ( Body Mass Index)\,\nRandom Blood Sugar\,\nHB1AC 3 months average sugar (If random sugar is high)
URL:https://mscamohali.com/w/event/health-checkup-camp-with-the-support-of-gini-health-care/
LOCATION:Community Centre\, Phase 7\, Community Centre\, Phase 7\, Sahibzada Ajit Singh Nagar\, Punjab\, 160062\, India
END:VEVENT
BEGIN:VEVENT
DTSTART;TZID=Asia/Kolkata:20251104T150000
DTEND;TZID=Asia/Kolkata:20251104T173000
DTSTAMP:20260424T060322
CREATED:20251029T090034Z
LAST-MODIFIED:20260130T123327Z
UID:3861-1762268400-1762277400@mscamohali.com
SUMMARY:Members get-together Nov-2025
DESCRIPTION:Sale of Tambola ticket closes at 3.10 pm
URL:https://mscamohali.com/w/event/members-get-together-nov-2025/
LOCATION:Community Centre\, Phase 7\, Community Centre\, Phase 7\, Sahibzada Ajit Singh Nagar\, Punjab\, 160062\, India
CATEGORIES:Get-Together at Phase 7
END:VEVENT
BEGIN:VEVENT
DTSTART;TZID=Asia/Kolkata:20251107T103000
DTEND;TZID=Asia/Kolkata:20251107T120000
DTSTAMP:20260424T060322
CREATED:20251031T142107Z
LAST-MODIFIED:20251105T180049Z
UID:3984-1762511400-1762516800@mscamohali.com
SUMMARY:Health Talk on Understanding and Managing Back Pain
DESCRIPTION:  \nSpeaker : Dr Rakesh Redhu\, MBBS\, MS\, MCh\nSr Consultant\, Neurosurgeryand Spinal Surgery
URL:https://mscamohali.com/w/event/talk-on-understanding-and-managing-back-pain/
LOCATION:Shalby Multi-Speciality Hospital\, Shalby Hospital\, Phase 9\, Sector 63\, Sahibzada Ajit Singh Nagar\, Punjab\, 160062\, India
END:VEVENT
BEGIN:VEVENT
DTSTART;TZID=Asia/Kolkata:20251108T103000
DTEND;TZID=Asia/Kolkata:20251108T120000
DTSTAMP:20260424T060322
CREATED:20251031T142941Z
LAST-MODIFIED:20260130T123313Z
UID:3990-1762597800-1762603200@mscamohali.com
SUMMARY:Hands-on Training on Al Tools
DESCRIPTION:Speaker: Mr Tanvir Singh\, Project Manager at\nSpoken Tutorial\, IIT Mumbai
URL:https://mscamohali.com/w/event/hands-on-training-on-al-tools/
LOCATION:LAF Centre\, MPPJ+8FQ\, Sector 68\, Sahibzada Ajit Singh Nagar\, Punjab 160062\, LAF Centre\, MPPJ+8FQ\, Sector 68\, Sahibzada Ajit Singh Nagar\, Punjab\, 160062\, India
CATEGORIES:Events at LAF Centre
END:VEVENT
BEGIN:VEVENT
DTSTART;TZID=Asia/Kolkata:20251111T150000
DTEND;TZID=Asia/Kolkata:20251111T170000
DTSTAMP:20260424T060322
CREATED:20251105T063326Z
LAST-MODIFIED:20251111T090224Z
UID:4013-1762873200-1762880400@mscamohali.com
SUMMARY:Chapter 68 Get-together
DESCRIPTION:Second Tuesday \nTambola tickets close by 3:10pm\, \nRecreation \nRefreshment
URL:https://mscamohali.com/w/event/chapter-68-get-together/
LOCATION:Central Park Library\, Sector 69\, Mohali\, Central Park Library\, Sector 69\, Mohali\, Sahibzada Ajit Singh Nagar\, Punjab\, 160071\, India
CATEGORIES:Get-Together at Phase 7
END:VEVENT
BEGIN:VEVENT
DTSTART;TZID=Asia/Kolkata:20251112T153000
DTEND;TZID=Asia/Kolkata:20251112T170000
DTSTAMP:20260424T060322
CREATED:20251105T070308Z
LAST-MODIFIED:20251117T171652Z
UID:4015-1762961400-1762966800@mscamohali.com
SUMMARY:Chapter 3 Get-together
DESCRIPTION:Chapter 3 – Monthly Meet\n\nChanging season causes viral infections & Flu;\n\nA Special Talk on: Flu and Allergies\, symptoms & precautions for elderly\n\nSpeaker: Dr Sonal\, MD\, DM Pulmonology LIVASA Hospital\, Mohali.\n\n 	Tambola @ 3:30 PM\n 	Hilarious Songs\, Gup-Shup\n 	Yummy Refreshments\n\n 
URL:https://mscamohali.com/w/event/chapter-3-get-together/
LOCATION:Library\, Rose Garden\, Phase 3B-1\, S.A.S. Nagar\, Punjab.\, Library\, Rose Garden\, Phase 3B-1\, Sahibzada Ajit Singh Nagar\, Punjab\, 160071\, India
CATEGORIES:Get-Together at Phase 7
END:VEVENT
BEGIN:VEVENT
DTSTART;TZID=Asia/Kolkata:20251113T150000
DTEND;TZID=Asia/Kolkata:20251113T170000
DTSTAMP:20260424T060322
CREATED:20251105T070515Z
LAST-MODIFIED:20260130T122148Z
UID:4017-1763046000-1763053200@mscamohali.com
SUMMARY:Chapter 64 Get-together
DESCRIPTION:Second Thursday\nTambola tickets closes by 3.10 pm Share Experience\, Recreation\, and refreshment \n\nShare Experience\nRecreation\nMobile Tips\nTalk on Punjabi History\nBirthday Cake Cutting\nRefreshments
URL:https://mscamohali.com/w/event/chapter-64-get-together/
LOCATION:Govt. Smart School\, Phase 10\, Govt. Smart School\, Phase 10\, Sahibzada Ajit Singh Nagar\, Punjab\, 160062\, India
CATEGORIES:Events at Chapter 64
END:VEVENT
BEGIN:VEVENT
DTSTART;TZID=Asia/Kolkata:20251114T103000
DTEND;TZID=Asia/Kolkata:20251114T130000
DTSTAMP:20260424T060322
CREATED:20251110T041726Z
LAST-MODIFIED:20251110T041726Z
UID:4094-1763116200-1763125200@mscamohali.com
SUMMARY:Talk on Diabetes & Well-being
DESCRIPTION:Talk on Diabetes & Well-being \nSpeaker: Dr Gagan Priya \nConsultant Endocronology
URL:https://mscamohali.com/w/event/talk-on-diabetes-well-being/
LOCATION:Fortis\, Auditorium 3rd Floor\, Fortis Hospital\, Sahibzada Ajit Singh Nagar\, Punjab\, 160062\, India
END:VEVENT
BEGIN:VEVENT
DTSTART;TZID=Asia/Kolkata:20251115T103000
DTEND;TZID=Asia/Kolkata:20251115T130000
DTSTAMP:20260424T060322
CREATED:20251110T042201Z
LAST-MODIFIED:20260130T123257Z
UID:4096-1763202600-1763211600@mscamohali.com
SUMMARY:Talk on Kissa Sassi Punnu
DESCRIPTION:Talk by Shri J S Ramgarhia
URL:https://mscamohali.com/w/event/talk-on-kissa-sassi-punnu/
LOCATION:LAF Centre\, MPPJ+8FQ\, Sector 68\, Sahibzada Ajit Singh Nagar\, Punjab 160062\, LAF Centre\, MPPJ+8FQ\, Sector 68\, Sahibzada Ajit Singh Nagar\, Punjab\, 160062\, India
CATEGORIES:Events at LAF Centre
END:VEVENT
BEGIN:VEVENT
DTSTART;TZID=Asia/Kolkata:20251116T103000
DTEND;TZID=Asia/Kolkata:20251116T130000
DTSTAMP:20260424T060322
CREATED:20251110T042842Z
LAST-MODIFIED:20251110T042842Z
UID:4098-1763289000-1763298000@mscamohali.com
SUMMARY:Talk on Joint Replacement
DESCRIPTION:Dr Aditya Aggarwal \nDirector Orthopedic and Joint Replacement \n 
URL:https://mscamohali.com/w/event/talk-on-joint-replacement/
LOCATION:Livasa Hospital\, Livasa Hospital\, Ground Floor\, Ortho Elite Area\, Sector 71\, Sahibzada Ajit Singh Nagar\, Punjab\, 160071\, India
END:VEVENT
BEGIN:VEVENT
DTSTART;TZID=Asia/Kolkata:20251120T150000
DTEND;TZID=Asia/Kolkata:20251120T170000
DTSTAMP:20260424T060322
CREATED:20251110T121020Z
LAST-MODIFIED:20260130T122141Z
UID:4102-1763650800-1763658000@mscamohali.com
SUMMARY:Chapter 64 Tambola
DESCRIPTION:
URL:https://mscamohali.com/w/event/chapter-64-tambola/
LOCATION:Govt. Smart School\, Phase 10\, Govt. Smart School\, Phase 10\, Sahibzada Ajit Singh Nagar\, Punjab\, 160062\, India
CATEGORIES:Events at Chapter 64
END:VEVENT
BEGIN:VEVENT
DTSTART;TZID=Asia/Kolkata:20251122T150000
DTEND;TZID=Asia/Kolkata:20251122T170000
DTSTAMP:20260424T060322
CREATED:20251111T091037Z
LAST-MODIFIED:20260130T123245Z
UID:4145-1763823600-1763830800@mscamohali.com
SUMMARY:Surilee Sham
DESCRIPTION:Any song about a number of counting. For example\, ek\, do\, sau\, hazaar\, etc.
URL:https://mscamohali.com/w/event/surilee-sham-2/
LOCATION:LAF Centre\, MPPJ+8FQ\, Sector 68\, Sahibzada Ajit Singh Nagar\, Punjab 160062\, LAF Centre\, MPPJ+8FQ\, Sector 68\, Sahibzada Ajit Singh Nagar\, Punjab\, 160062\, India
CATEGORIES:Events at LAF Centre
END:VEVENT
BEGIN:VEVENT
DTSTART;TZID=Asia/Kolkata:20251202T150000
DTEND;TZID=Asia/Kolkata:20251202T173000
DTSTAMP:20260424T060322
CREATED:20251130T094038Z
LAST-MODIFIED:20260130T123239Z
UID:4350-1764687600-1764696600@mscamohali.com
SUMMARY:Members Get-together Dec-2025
DESCRIPTION:First Tuesday\,  \nGet-together\, Sports prize distribution\, Recreation\, Birthday Cake Cutting\, Introduction of new members. Refreshment.
URL:https://mscamohali.com/w/event/members-get-together-dec-2025/
LOCATION:Community Centre\, Phase 7\, Community Centre\, Phase 7\, Sahibzada Ajit Singh Nagar\, Punjab\, 160062\, India
CATEGORIES:Get-Together at Phase 7
ATTACH;FMTTYPE=image/png:https://mscamohali.com/w/wp-content/uploads/2025/11/image_of_get_together_senior_citizens_0.png
END:VEVENT
BEGIN:VEVENT
DTSTART;TZID=Asia/Kolkata:20251205T103000
DTEND;TZID=Asia/Kolkata:20251205T120000
DTSTAMP:20260424T060322
CREATED:20251130T094728Z
LAST-MODIFIED:20251130T094809Z
UID:4353-1764930600-1764936000@mscamohali.com
SUMMARY:Health Talk on Constipation and Gastric Reflux
DESCRIPTION:First Friday \nTalk on Constipation and Gastric RefluxSpeaker : Dr Pankaj Bhalla\, MBBS\, Sr Consultant GI and Laparoscopic Surgery
URL:https://mscamohali.com/w/event/health-talk-on-understanding-and-managing-back-pain/
LOCATION:Shalby Multi-Speciality Hospital\, Shalby Hospital\, Phase 9\, Sector 63\, Sahibzada Ajit Singh Nagar\, Punjab\, 160062\, India
END:VEVENT
BEGIN:VEVENT
DTSTART;TZID=Asia/Kolkata:20251209T150000
DTEND;TZID=Asia/Kolkata:20251209T170000
DTSTAMP:20260424T060322
CREATED:20251130T095037Z
LAST-MODIFIED:20251130T095038Z
UID:4358-1765292400-1765299600@mscamohali.com
SUMMARY:Chapter 68 Get-together
DESCRIPTION:Second Tuesday \nTambola tickets close by 3:10pm\, \nRecreation \nRefreshment
URL:https://mscamohali.com/w/event/chapter-68-get-together-2/
LOCATION:Central Park Library\, Sector 69\, Mohali\, Central Park Library\, Sector 69\, Mohali\, Sahibzada Ajit Singh Nagar\, Punjab\, 160071\, India
CATEGORIES:Get-Together at Phase 7
END:VEVENT
BEGIN:VEVENT
DTSTART;TZID=Asia/Kolkata:20251211T150000
DTEND;TZID=Asia/Kolkata:20251211T170000
DTSTAMP:20260424T060322
CREATED:20251130T095253Z
LAST-MODIFIED:20260130T122133Z
UID:4361-1765465200-1765472400@mscamohali.com
SUMMARY:Chapter 64 Get-together
DESCRIPTION:Second ThursdayTambola tickets closes by 3.10 pm Share Experience\, Recreation\, and refreshment \n\nShare Experience\nRecreation\nRefreshments
URL:https://mscamohali.com/w/event/chapter-64-get-together-2/
LOCATION:Govt. Smart School\, Phase 10\, Govt. Smart School\, Phase 10\, Sahibzada Ajit Singh Nagar\, Punjab\, 160062\, India
CATEGORIES:Events at Chapter 64
END:VEVENT
BEGIN:VEVENT
DTSTART;TZID=Asia/Kolkata:20251217T153000
DTEND;TZID=Asia/Kolkata:20251217T170000
DTSTAMP:20260424T060322
CREATED:20251117T171419Z
LAST-MODIFIED:20260130T123226Z
UID:4266-1765985400-1765990800@mscamohali.com
SUMMARY:Chapter-3 Members Get-together
DESCRIPTION:Remarks: Tambola\, Talk by Doctor from MAX Hospital\, Recreation\, Refreshment.
URL:https://mscamohali.com/w/event/chapter-3-members-get-together/
LOCATION:Library\, Rose Garden\, Phase 3B-1\, S.A.S. Nagar\, Punjab.\, Library\, Rose Garden\, Phase 3B-1\, Sahibzada Ajit Singh Nagar\, Punjab\, 160071\, India
CATEGORIES:Events at Chapter 3
END:VEVENT
BEGIN:VEVENT
DTSTART;TZID=Asia/Kolkata:20251218T150000
DTEND;TZID=Asia/Kolkata:20251218T170000
DTSTAMP:20260424T060322
CREATED:20251218T112616Z
LAST-MODIFIED:20260130T122033Z
UID:4365-1766070000-1766077200@mscamohali.com
SUMMARY:Chapter 64 Tambola
DESCRIPTION:
URL:https://mscamohali.com/w/event/chapter-64-tambola-2/
LOCATION:Govt. Smart School\, Phase 10\, Govt. Smart School\, Phase 10\, Sahibzada Ajit Singh Nagar\, Punjab\, 160062\, India
CATEGORIES:Events at Chapter 64
END:VEVENT
BEGIN:VEVENT
DTSTART;TZID=Asia/Kolkata:20251220T080000
DTEND;TZID=Asia/Kolkata:20251220T170000
DTSTAMP:20260424T060322
CREATED:20251218T112938Z
LAST-MODIFIED:20260130T123216Z
UID:4369-1766217600-1766250000@mscamohali.com
SUMMARY:Member Talk @ LAF
DESCRIPTION:Understanding Shahidi Jorh Mela \n\n\n\nSpeaker: S. Harmel Singh
URL:https://mscamohali.com/w/event/member-talk-laf/
LOCATION:LAF Centre\, MPPJ+8FQ\, Sector 68\, Sahibzada Ajit Singh Nagar\, Punjab 160062\, LAF Centre\, MPPJ+8FQ\, Sector 68\, Sahibzada Ajit Singh Nagar\, Punjab\, 160062\, India
CATEGORIES:Events at LAF Centre
END:VEVENT
BEGIN:VEVENT
DTSTART;TZID=Asia/Kolkata:20251227T143000
DTEND;TZID=Asia/Kolkata:20251227T163000
DTSTAMP:20260424T060322
CREATED:20251130T093534Z
LAST-MODIFIED:20260130T123203Z
UID:4348-1766845800-1766853000@mscamohali.com
SUMMARY:Surilee Sham
DESCRIPTION:Being end of the year meet\, any Shabad\, Bhajan. 
URL:https://mscamohali.com/w/event/surilee-sham-3/
LOCATION:LAF Centre\, MPPJ+8FQ\, Sector 68\, Sahibzada Ajit Singh Nagar\, Punjab 160062\, LAF Centre\, MPPJ+8FQ\, Sector 68\, Sahibzada Ajit Singh Nagar\, Punjab\, 160062\, India
CATEGORIES:Events at LAF Centre
ATTACH;FMTTYPE=image/png:https://mscamohali.com/w/wp-content/uploads/2025/11/image_of_singing_program_of_senior_citizens_1.png
END:VEVENT
BEGIN:VEVENT
DTSTART;TZID=Asia/Kolkata:20260102T103000
DTEND;TZID=Asia/Kolkata:20260102T120000
DTSTAMP:20260424T060322
CREATED:20251224T180358Z
LAST-MODIFIED:20251224T180358Z
UID:4371-1767349800-1767355200@mscamohali.com
SUMMARY:Health Talk on Constipation and Gastric Reflux
DESCRIPTION:First Friday \nHealth Talk on How Robotics is Revolutionizing Knee Replacement:Precision\, Pain Relief & Faster HealingSpeaker : Dr Gurdarshan Singh Natt\, MBBS\, M.S.Orthopeidcs M.C.H. Director Orthopedics & Joint Replacement
URL:https://mscamohali.com/w/event/health-talk-on-constipation-and-gastric-reflux/
LOCATION:Shalby Multi-Speciality Hospital\, Shalby Hospital\, Phase 9\, Sector 63\, Sahibzada Ajit Singh Nagar\, Punjab\, 160062\, India
END:VEVENT
BEGIN:VEVENT
DTSTART;TZID=Asia/Kolkata:20260106T143000
DTEND;TZID=Asia/Kolkata:20260106T170000
DTSTAMP:20260424T060322
CREATED:20260102T150640Z
LAST-MODIFIED:20260130T123153Z
UID:4385-1767709800-1767718800@mscamohali.com
SUMMARY:Members Get-together Jan-2026
DESCRIPTION:First Tuesday\,  \nGet-together\, Tambola\, Recreation\, Birthday Cake Cutting\, Introduction of new members. Refreshment.
URL:https://mscamohali.com/w/event/members-get-together-jan-2026/
LOCATION:Community Centre\, Phase 7\, Community Centre\, Phase 7\, Sahibzada Ajit Singh Nagar\, Punjab\, 160062\, India
CATEGORIES:Get-Together at Phase 7
ATTACH;FMTTYPE=image/png:https://mscamohali.com/w/wp-content/uploads/2025/11/image_of_get_together_senior_citizens_0.png
END:VEVENT
BEGIN:VEVENT
DTSTART;TZID=Asia/Kolkata:20260108T150000
DTEND;TZID=Asia/Kolkata:20260108T170000
DTSTAMP:20260424T060322
CREATED:20260102T150840Z
LAST-MODIFIED:20260130T122024Z
UID:4387-1767884400-1767891600@mscamohali.com
SUMMARY:Chapter 64 Get-together
DESCRIPTION:Second ThursdayTambola tickets closes by 3.10 pm Share Experience\, Recreation\, and refreshment \n\nShare Experience\nRecreation\nRefreshments
URL:https://mscamohali.com/w/event/chapter-64-get-together-3/
LOCATION:Govt. Smart School\, Phase 10\, Govt. Smart School\, Phase 10\, Sahibzada Ajit Singh Nagar\, Punjab\, 160062\, India
CATEGORIES:Events at Chapter 64
END:VEVENT
BEGIN:VEVENT
DTSTART;TZID=Asia/Kolkata:20260109T103000
DTEND;TZID=Asia/Kolkata:20260109T120000
DTSTAMP:20260424T060322
CREATED:20260102T151227Z
LAST-MODIFIED:20260102T151228Z
UID:4389-1767954600-1767960000@mscamohali.com
SUMMARY:Aging with Grace Health Talk: Psychological care for the elderly
DESCRIPTION:Second Friday \n\n\n\nTalk by Ms Anchal Sharma\, Consulting Psychologist
URL:https://mscamohali.com/w/event/aging-with-grace-health-talk-psychological-care-for-the-elderly/
LOCATION:Fortis\, Auditorium 3rd Floor\, Fortis Hospital\, Sahibzada Ajit Singh Nagar\, Punjab\, 160062\, India
END:VEVENT
BEGIN:VEVENT
DTSTART;TZID=Asia/Kolkata:20260111T103000
DTEND;TZID=Asia/Kolkata:20260111T130000
DTSTAMP:20260424T060322
CREATED:20260102T145353Z
LAST-MODIFIED:20260102T145833Z
UID:4378-1768127400-1768136400@mscamohali.com
SUMMARY:P. H. Vaishnav Seminar
DESCRIPTION:Topic: “Greener Tomorrow” Environment & E-Waste Awareness \n\n\n\nSpeakers: Dr. Ravindra Khaiwal\, Professor (Environmental Health)\, School of Public Health\, PGIMER\, Chandigarh \n\n\n\nMr. Vivek Srivastava\, Ex-Associate Vice President (AVP) Godrej & Boyce Mfg. Co. Ltd. \n\n\n\nLunch after the seminar \n\n\n\nAll members are cordially invited
URL:https://mscamohali.com/w/event/p-h-vaishnav-seminar/
LOCATION:Auditorium\, Rattan Group of Institutions\, Sohana\, Sohana\, Sahibzada Ajit Singh Nagar\, Punjab\, 140308\, India
END:VEVENT
BEGIN:VEVENT
DTSTART;TZID=Asia/Kolkata:20260112T150000
DTEND;TZID=Asia/Kolkata:20260112T170000
DTSTAMP:20260424T060322
CREATED:20260112T055259Z
LAST-MODIFIED:20260112T055603Z
UID:4408-1768230000-1768237200@mscamohali.com
SUMMARY:Chapter 68 Get-together
DESCRIPTION:Preponed due to Lohri \nTambola tickets close by 3:10pm\, \nRecreation \nRefreshment
URL:https://mscamohali.com/w/event/chapter-68-get-together-3/
LOCATION:Central Park Library\, Sector 69\, Mohali\, Central Park Library\, Sector 69\, Mohali\, Sahibzada Ajit Singh Nagar\, Punjab\, 160071\, India
CATEGORIES:Get-Together at Phase 7
END:VEVENT
BEGIN:VEVENT
DTSTART;TZID=Asia/Kolkata:20260114T150000
DTEND;TZID=Asia/Kolkata:20260114T170000
DTSTAMP:20260424T060322
CREATED:20260112T143823Z
LAST-MODIFIED:20260114T042041Z
UID:4439-1768402800-1768410000@mscamohali.com
SUMMARY:Chapter 3 Get-together
DESCRIPTION:Chapter 3 – Monthly Meet \nA Special Talk on: Common Urological Problems in Elderly \nSpeaker: Dr Nitin Aggarwal\, DNB Urology\, Consultant\, LIVASA Hospital\, Mohali. \n\nTambola @ 3:00 PM\nAt 4:15 PM: Bonfire & Lohri celebrations outside Library\nSeasonal Refreshments\n\nChapter Head
URL:https://mscamohali.com/w/event/chapter-3-get-together-2/
LOCATION:Library\, Rose Garden\, Phase 3B-1\, S.A.S. Nagar\, Punjab.\, Library\, Rose Garden\, Phase 3B-1\, Sahibzada Ajit Singh Nagar\, Punjab\, 160071\, India
CATEGORIES:Events at Chapter 3
END:VEVENT
BEGIN:VEVENT
DTSTART;TZID=Asia/Kolkata:20260115T150000
DTEND;TZID=Asia/Kolkata:20260115T170000
DTSTAMP:20260424T060322
CREATED:20260114T135827Z
LAST-MODIFIED:20260114T185833Z
UID:4496-1768489200-1768496400@mscamohali.com
SUMMARY:Chapter 64
DESCRIPTION:Second ThursdayTambola tickets closes by 3.10 pm Share Experience\, Recreation\, and refreshment \n\nShare Experience\nRecreation\nRefreshments
URL:https://mscamohali.com/w/event/chapter-64/
LOCATION:Govt. Smart School\, Phase 10\, Govt. Smart School\, Phase 10\, Sahibzada Ajit Singh Nagar\, Punjab\, 160062\, India
CATEGORIES:Events at Chapter 64
END:VEVENT
BEGIN:VEVENT
DTSTART;TZID=Asia/Kolkata:20260116T110000
DTEND;TZID=Asia/Kolkata:20260116T130000
DTSTAMP:20260424T060322
CREATED:20260102T150217Z
LAST-MODIFIED:20260130T122213Z
UID:4383-1768561200-1768568400@mscamohali.com
SUMMARY:Lohri Celebrations
DESCRIPTION:Makki di Roti\, Saron da Saag\, Rau di Kheer \n\n\n\nBonfire and Variety Programme \n\n\n\nPlease collect your Lunch coupon @ Rs 100 per head from: \n\n\n\n1) Mr Narinder Singh 96461127182 \n\n\n\n2) Mr Ravjot Singh 9855443169 between 2nd and 11th Jan 2026. \n\n\n\nNOTE: Entry by Coupon Only
URL:https://mscamohali.com/w/event/lohri-celebrations/
LOCATION:LAF Centre\, MPPJ+8FQ\, Sector 68\, Sahibzada Ajit Singh Nagar\, Punjab 160062\, LAF Centre\, MPPJ+8FQ\, Sector 68\, Sahibzada Ajit Singh Nagar\, Punjab\, 160062\, India
CATEGORIES:Events at LAF Centre
END:VEVENT
END:VCALENDAR