BEGIN:VCALENDAR
VERSION:2.0
PRODID:-//Mohali Senior Citizens Association - ECPv6.15.20//NONSGML v1.0//EN
CALSCALE:GREGORIAN
METHOD:PUBLISH
X-WR-CALNAME:Mohali Senior Citizens Association
X-ORIGINAL-URL:https://mscamohali.com/w
X-WR-CALDESC:Events for Mohali Senior Citizens Association
REFRESH-INTERVAL;VALUE=DURATION:PT1H
X-Robots-Tag:noindex
X-PUBLISHED-TTL:PT1H
BEGIN:VTIMEZONE
TZID:Asia/Kolkata
BEGIN:STANDARD
TZOFFSETFROM:+0530
TZOFFSETTO:+0530
TZNAME:IST
DTSTART:20250101T000000
END:STANDARD
END:VTIMEZONE
BEGIN:VEVENT
DTSTART;TZID=Asia/Kolkata:20260126T110000
DTEND;TZID=Asia/Kolkata:20260126T130000
DTSTAMP:20260424T055952
CREATED:20260117T054859Z
LAST-MODIFIED:20260117T054900Z
UID:4520-1769425200-1769432400@mscamohali.com
SUMMARY:Republic Day Celebration
DESCRIPTION:Cultural Programme \n\n\n\nWelcome Tea and Refreshments will be served.
URL:https://mscamohali.com/w/event/republic-day-celebration/
LOCATION:LAF Centre\, MPPJ+8FQ\, Sector 68\, Sahibzada Ajit Singh Nagar\, Punjab 160062\, LAF Centre\, MPPJ+8FQ\, Sector 68\, Sahibzada Ajit Singh Nagar\, Punjab\, 160062\, India
END:VEVENT
BEGIN:VEVENT
DTSTART;TZID=Asia/Kolkata:20260131T143000
DTEND;TZID=Asia/Kolkata:20260131T170000
DTSTAMP:20260424T055952
CREATED:20260117T055419Z
LAST-MODIFIED:20260130T123107Z
UID:4524-1769869800-1769878800@mscamohali.com
SUMMARY:Sureeli-Sham (ਸੁਰੀਲੀ ਸ਼ਾਮ)
DESCRIPTION:Last Saturday of the month \n\n\n\nTopic of Songs/compositions: Name of any vehicle \n\n\n\nFollowed by refreshments.
URL:https://mscamohali.com/w/event/sureeli-sham-%e0%a8%b8%e0%a9%81%e0%a8%b0%e0%a9%80%e0%a8%b2%e0%a9%80-%e0%a8%b8%e0%a8%bc%e0%a8%be%e0%a8%ae/
LOCATION:LAF Centre\, MPPJ+8FQ\, Sector 68\, Sahibzada Ajit Singh Nagar\, Punjab 160062\, LAF Centre\, MPPJ+8FQ\, Sector 68\, Sahibzada Ajit Singh Nagar\, Punjab\, 160062\, India
CATEGORIES:Events at LAF Centre
END:VEVENT
BEGIN:VEVENT
DTSTART;TZID=Asia/Kolkata:20260203T143000
DTEND;TZID=Asia/Kolkata:20260203T170000
DTSTAMP:20260424T055952
CREATED:20260117T055713Z
LAST-MODIFIED:20260303T081522Z
UID:4527-1770129000-1770138000@mscamohali.com
SUMMARY:Members Get-together Feb-2026
DESCRIPTION:First Tuesday\,  \nMembers Get-together\, Tambola\, Recreation\, Birthday* Cake Cutting\, Introduction of new members. Refreshment. \n\n\nMembers get together invited Talk: Tremors & Shainess in hands by Dr Amandeep Singh\, MBBS\, MD Medicine\, DM Neurology Sponsored by Troikaa Pharma. \n\n\n\nSale of Tambola tickets closes by 2.40 pm. Refreshment sponsoredd by Mrs & Mr Jagjit Singh.
URL:https://mscamohali.com/w/event/members-get-together-feb-2026/
LOCATION:Community Centre\, Phase 7\, Community Centre\, Phase 7\, Sahibzada Ajit Singh Nagar\, Punjab\, 160062\, India
CATEGORIES:Get-Together at Phase 7
ATTACH;FMTTYPE=image/png:https://mscamohali.com/w/wp-content/uploads/2025/11/image_of_get_together_senior_citizens_0.png
END:VEVENT
BEGIN:VEVENT
DTSTART;TZID=Asia/Kolkata:20260206T103000
DTEND;TZID=Asia/Kolkata:20260206T120000
DTSTAMP:20260424T055952
CREATED:20260129T072348Z
LAST-MODIFIED:20260129T072456Z
UID:4879-1770373800-1770379200@mscamohali.com
SUMMARY:Health Talk on "How Robotics is Revolutionizing Knee Replacement"
DESCRIPTION:First Friday \nHealth Talk on How Robotics is Revolutionizing Knee ReplacementSpeaker : Dr. Pradeep Aggarwal Chairman cum Chief Orthopedics & Joint Replacement Surgery
URL:https://mscamohali.com/w/event/health-talk-on-constipation-and-gastric-reflux-2/
LOCATION:Shalby Multi-Speciality Hospital\, Shalby Hospital\, Phase 9\, Sector 63\, Sahibzada Ajit Singh Nagar\, Punjab\, 160062\, India
END:VEVENT
BEGIN:VEVENT
DTSTART;TZID=Asia/Kolkata:20260210T150000
DTEND;TZID=Asia/Kolkata:20260210T170000
DTSTAMP:20260424T055952
CREATED:20260129T072859Z
LAST-MODIFIED:20260130T123024Z
UID:4882-1770735600-1770742800@mscamohali.com
SUMMARY:Chapter 68 Get-together
DESCRIPTION:Sale of Tambola tickets close by 3:10pm\, Recreation\, Refreshment
URL:https://mscamohali.com/w/event/chapter-68-get-together-4/
LOCATION:Central Park Library\, Sector 69\, Mohali\, Central Park Library\, Sector 69\, Mohali\, Sahibzada Ajit Singh Nagar\, Punjab\, 160071\, India
CATEGORIES:Events at Chapter 68
END:VEVENT
BEGIN:VEVENT
DTSTART;TZID=Asia/Kolkata:20260211T150000
DTEND;TZID=Asia/Kolkata:20260211T170000
DTSTAMP:20260424T055952
CREATED:20260129T073205Z
LAST-MODIFIED:20260129T073206Z
UID:4885-1770822000-1770829200@mscamohali.com
SUMMARY:Chapter 3 Get-together
DESCRIPTION:Second Wednesday \nChapter 3 – Monthly Meet \nA Special Talk by: Livasa Hospital \n\nTambola @ 3:00 PM\nInvited talk\nSeasonal Refreshments\n\nChapter Head
URL:https://mscamohali.com/w/event/chapter-3-get-together-3/
LOCATION:Library\, Rose Garden\, Phase 3B-1\, S.A.S. Nagar\, Punjab.\, Library\, Rose Garden\, Phase 3B-1\, Sahibzada Ajit Singh Nagar\, Punjab\, 160071\, India
CATEGORIES:Events at Chapter 3
END:VEVENT
BEGIN:VEVENT
DTSTART;TZID=Asia/Kolkata:20260212T150000
DTEND;TZID=Asia/Kolkata:20260212T170000
DTSTAMP:20260424T055952
CREATED:20260129T073400Z
LAST-MODIFIED:20260130T122005Z
UID:4887-1770908400-1770915600@mscamohali.com
SUMMARY:Chapter 64 Get-together
DESCRIPTION:Second ThursdayTambola tickets closes by 3.10 pm Share Experience\, Recreation\, and refreshment \n\nShare Experience\nRecreation\nRefreshments
URL:https://mscamohali.com/w/event/chapter-64-get-together-4/
LOCATION:Govt. Smart School\, Phase 10\, Govt. Smart School\, Phase 10\, Sahibzada Ajit Singh Nagar\, Punjab\, 160062\, India
CATEGORIES:Events at Chapter 64
END:VEVENT
BEGIN:VEVENT
DTSTART;TZID=Asia/Kolkata:20260213T103000
DTEND;TZID=Asia/Kolkata:20260213T120000
DTSTAMP:20260424T055952
CREATED:20260129T074215Z
LAST-MODIFIED:20260129T074215Z
UID:4889-1770978600-1770984000@mscamohali.com
SUMMARY:Kidney care in the Golden Years
DESCRIPTION:Second Friday \n\n\n\nSpeaker: Dr Sahil Rally Consultant – Organ Transplant Surgery
URL:https://mscamohali.com/w/event/kidney-care-in-the-golden-years/
LOCATION:Fortis\, Auditorium 3rd Floor\, Fortis Hospital\, Sahibzada Ajit Singh Nagar\, Punjab\, 160062\, India
END:VEVENT
BEGIN:VEVENT
DTSTART;TZID=Asia/Kolkata:20260213T143000
DTEND;TZID=Asia/Kolkata:20260213T173000
DTSTAMP:20260424T055952
CREATED:20260212T172218Z
LAST-MODIFIED:20260212T173254Z
UID:5005-1770993000-1771003800@mscamohali.com
SUMMARY:Ga Mere Man Ga (ਗਾ ਮੇਰੇ ਮਨ ਗਾ)
DESCRIPTION:MSCA invites members to enjoy musical programme. Songs by select MSCA members. \n\n\n\nRefreshment and Tea will be served at the end of the programme.
URL:https://mscamohali.com/w/event/ga-mere-man-ga-%e0%a8%97%e0%a8%be-%e0%a8%ae%e0%a9%87%e0%a8%b0%e0%a9%87-%e0%a8%ae%e0%a8%a8-%e0%a8%97%e0%a8%be/
LOCATION:Prachin Kala Kendra\, Prachin Kala Kendra\, Sector 71\, Sahibzada Ajit Singh Nagar\, Punjab\, 160071\, India
END:VEVENT
BEGIN:VEVENT
DTSTART;TZID=Asia/Kolkata:20260219T150000
DTEND;TZID=Asia/Kolkata:20260219T170000
DTSTAMP:20260424T055952
CREATED:20260129T083920Z
LAST-MODIFIED:20260130T122014Z
UID:4893-1771513200-1771520400@mscamohali.com
SUMMARY:Chapter 64 Tambola
DESCRIPTION:Third Thursday \n\n\n\nSale of Tambola tickets closes by 3.10 pm. Tambola Game. Gup-Shup & Refreshment.
URL:https://mscamohali.com/w/event/chapter-64-tambola-3/
LOCATION:Govt. Smart School\, Phase 10\, Govt. Smart School\, Phase 10\, Sahibzada Ajit Singh Nagar\, Punjab\, 160062\, India
CATEGORIES:Events at Chapter 64
END:VEVENT
BEGIN:VEVENT
DTSTART;TZID=Asia/Kolkata:20260221T103000
DTEND;TZID=Asia/Kolkata:20260221T120000
DTSTAMP:20260424T055952
CREATED:20260129T084247Z
LAST-MODIFIED:20260130T122542Z
UID:4895-1771669800-1771675200@mscamohali.com
SUMMARY:Introduction to MATHUDOKU
DESCRIPTION:Third Saturday \nIntroduction to MATHUDOKU \nTalk by Mr Jarnail Singh\, Vice President LM 1162 \n 
URL:https://mscamohali.com/w/event/talk-on-technology-for-seniors-2/
LOCATION:LAF Centre\, MPPJ+8FQ\, Sector 68\, Sahibzada Ajit Singh Nagar\, Punjab 160062\, LAF Centre\, MPPJ+8FQ\, Sector 68\, Sahibzada Ajit Singh Nagar\, Punjab\, 160062\, India
CATEGORIES:Events at LAF Centre
END:VEVENT
BEGIN:VEVENT
DTSTART;TZID=Asia/Kolkata:20260222T103000
DTEND;TZID=Asia/Kolkata:20260222T123000
DTSTAMP:20260424T055952
CREATED:20260129T074423Z
LAST-MODIFIED:20260214T102630Z
UID:4891-1771756200-1771763400@mscamohali.com
SUMMARY:Lifestyle Modification
DESCRIPTION:Third Sunday \n\n\n\nSpeaker: Dr Puneet Kumar\, Sr. Consultant\, Physician & Diabetes Specialist\, MBBS\, MD (DMCH Ludhiana)\, Livasa Hospital
URL:https://mscamohali.com/w/event/cancer-awareness-and-prevention/
LOCATION:Livasa Hospital\, Livasa Hospital\, Ground Floor\, Ortho Elite Area\, Sector 71\, Sahibzada Ajit Singh Nagar\, Punjab\, 160071\, India
END:VEVENT
BEGIN:VEVENT
DTSTART;TZID=Asia/Kolkata:20260228T030000
DTEND;TZID=Asia/Kolkata:20260228T053000
DTSTAMP:20260424T055952
CREATED:20260129T084751Z
LAST-MODIFIED:20260130T122527Z
UID:4899-1772247600-1772256600@mscamohali.com
SUMMARY:Sureeli-Sham (ਸੁਰੀਲੀ ਸ਼ਾਮ)
DESCRIPTION:Last Saturday of the month \n\n\n\nTopic of Songs/compositions: Naseeb\, Kismat\, Muqadar \n\n\n\nFollowed by refreshments. \n\n\n\nEnquiry: Mr Jarnail Singh M: 9814614656Mrs Amrit Kaur M: 9914091209
URL:https://mscamohali.com/w/event/sureeli-sham-%e0%a8%b8%e0%a9%81%e0%a8%b0%e0%a9%80%e0%a8%b2%e0%a9%80-%e0%a8%b8%e0%a8%bc%e0%a8%be%e0%a8%ae-2/
LOCATION:LAF Centre\, MPPJ+8FQ\, Sector 68\, Sahibzada Ajit Singh Nagar\, Punjab 160062\, LAF Centre\, MPPJ+8FQ\, Sector 68\, Sahibzada Ajit Singh Nagar\, Punjab\, 160062\, India
CATEGORIES:Events at LAF Centre
END:VEVENT
BEGIN:VEVENT
DTSTART;TZID=Asia/Kolkata:20260301T100000
DTEND;TZID=Asia/Kolkata:20260301T153000
DTSTAMP:20260424T055952
CREATED:20260212T174928Z
LAST-MODIFIED:20260212T174929Z
UID:5015-1772359200-1772379000@mscamohali.com
SUMMARY:Picnic at Master Farms
DESCRIPTION:PICNIC FOR MSCA MEMBERS Master Farms \n\n\n\nPatiala Highway\, 3.5 Kms. from Airport Road \n\n\n\n17 kms From Phase 7\, Mohali (40 minutes journey by bus) \n\n\n\n1st March 2026\, Sunday \n\n\n\nFROM 10.00 AM TO 3 PM \n\n\n\nMASTER FARMS \n\n\n\nTambola\, Quiz\, and other Cultural Activites and Many Prizes Welcome Drinks\, Breakfast\, Lunch And Departure Tea Will Be Provided Against Coupon of Rs 1000 Per Member. It Includes Bus Fare Also. \n\n\n\nOnly Limited Number of Coupons Will Be Issued COUPONS (From 16th February 2026 May Be Purchased From) Mr J S Rawal\, Secretary Finance M: 98888 32878 For Bus No 1 Starting From Phase 3B2 \n\n\n\n(Boarding between 9 am and 9.15 am Near Sindhi Sweets) \n\n\n\nWg Cdr Baldev Singh\, Editor Glorious Years M: 99156 12157 For Bus No 2 Starting From Silvi Park Phase 10 (boarding Between 9 am and 9.15 am Silvi Park Near Library) Members Are Expected To Board Respective Buses On Time Both The Buses Will Proceed Further From Silvi Park\, Phase 10\, Mohali At 9.30 am \n\n\n\nENQUIRY: MR JS RAWAL\, SECRETARY FINANCE M: 98888 32878
URL:https://mscamohali.com/w/event/picnic-at-master-farms/
LOCATION:Punjab
END:VEVENT
BEGIN:VEVENT
DTSTART;TZID=Asia/Kolkata:20260303T153000
DTEND;TZID=Asia/Kolkata:20260303T173000
DTSTAMP:20260424T055952
CREATED:20260303T090132Z
LAST-MODIFIED:20260303T090134Z
UID:5139-1772551800-1772559000@mscamohali.com
SUMMARY:Members Get-together Mar-2026
DESCRIPTION:First Tuesday\,  \nMembers Get-together\, Tambola\, Recreation\, Birthday Cake Cutting\, Introduction of new members. Refreshment. \n\n\nMembers get together invited Talk: Mr. Suvir Vij\, Regional Manager\, Go Digital General Insurance Co. \n\n\n\nSale of Tambola tickets closes by 3.40 pm.
URL:https://mscamohali.com/w/event/members-get-together-mar-2026-2/
LOCATION:Community Centre\, Phase 7\, Community Centre\, Phase 7\, Sahibzada Ajit Singh Nagar\, Punjab\, 160062\, India
END:VEVENT
BEGIN:VEVENT
DTSTART;TZID=Asia/Kolkata:20260305T150000
DTEND;TZID=Asia/Kolkata:20260305T170000
DTSTAMP:20260424T055952
CREATED:20260303T072742Z
LAST-MODIFIED:20260303T072743Z
UID:5124-1772722800-1772730000@mscamohali.com
SUMMARY:Chapter 68 Get-together
DESCRIPTION:Sale of Tambola tickets close by 3:10pm\, Recreation\, Refreshment
URL:https://mscamohali.com/w/event/chapter-68-get-together-5/
LOCATION:Central Park Library\, Sector 69\, Mohali\, Central Park Library\, Sector 69\, Mohali\, Sahibzada Ajit Singh Nagar\, Punjab\, 160071\, India
CATEGORIES:Events at Chapter 68
END:VEVENT
BEGIN:VEVENT
DTSTART;TZID=Asia/Kolkata:20260306T103000
DTEND;TZID=Asia/Kolkata:20260306T120000
DTSTAMP:20260424T055952
CREATED:20260303T073544Z
LAST-MODIFIED:20260303T073545Z
UID:5126-1772793000-1772798400@mscamohali.com
SUMMARY:Health Talk on "Bursting the Myths around Bypass Surgery"
DESCRIPTION:First Friday \nHealth Talk on Bursting the Myths around Bypass Surgery \nSpeaker: Dr Sandip Singh Rana\, Director and Chief Cardiothoracis Surgery
URL:https://mscamohali.com/w/event/health-talk-on-bursting-the-myths-around-bypass-surgery/
LOCATION:Shalby Multi-Speciality Hospital\, Shalby Hospital\, Phase 9\, Sector 63\, Sahibzada Ajit Singh Nagar\, Punjab\, 160062\, India
END:VEVENT
BEGIN:VEVENT
DTSTART;TZID=Asia/Kolkata:20260308T060000
DTEND;TZID=Asia/Kolkata:20260308T080000
DTSTAMP:20260424T055952
CREATED:20260310T030935Z
LAST-MODIFIED:20260310T030936Z
UID:5212-1772949600-1772956800@mscamohali.com
SUMMARY:WalkHERthon
DESCRIPTION:We all assemble at 6:00 AM at park\, Phase-8\, opposite YPS . \n\n\n\n\n\n\n\nWe all assemble at 6:00 AM at park\, Phase-8\, opposite YPS .
URL:https://mscamohali.com/w/event/walkherthon/
LOCATION:Punjab
END:VEVENT
BEGIN:VEVENT
DTSTART;TZID=Asia/Kolkata:20260311T160000
DTEND;TZID=Asia/Kolkata:20260311T180000
DTSTAMP:20260424T055952
CREATED:20260303T074250Z
LAST-MODIFIED:20260303T074251Z
UID:5129-1773244800-1773252000@mscamohali.com
SUMMARY:Chapter 3 Get-together
DESCRIPTION:Second Wednesday \nChapter 3 – Monthly Meet \nA Special Talk by: Livasa Hospital \n\nTambola @ 4:00 PM\nInvited talk\nSeasonal Refreshments\n\nChapter Head
URL:https://mscamohali.com/w/event/chapter-3-get-together-4/
LOCATION:Library\, Rose Garden\, Phase 3B-1\, S.A.S. Nagar\, Punjab.\, Library\, Rose Garden\, Phase 3B-1\, Sahibzada Ajit Singh Nagar\, Punjab\, 160071\, India
CATEGORIES:Events at Chapter 3
END:VEVENT
BEGIN:VEVENT
DTSTART;TZID=Asia/Kolkata:20260312T160000
DTEND;TZID=Asia/Kolkata:20260312T180000
DTSTAMP:20260424T055952
CREATED:20260303T083203Z
LAST-MODIFIED:20260303T083204Z
UID:5136-1773331200-1773338400@mscamohali.com
SUMMARY:Chapter 64 Get-together
DESCRIPTION:Second ThursdayTambola tickets closes by 4.10 pm Share Experience\, Recreation\, and refreshment \n\nShare Experience\nRecreation\nRefreshments
URL:https://mscamohali.com/w/event/chapter-64-get-together-5/
LOCATION:Govt. Smart School\, Phase 10\, Govt. Smart School\, Phase 10\, Sahibzada Ajit Singh Nagar\, Punjab\, 160062\, India
CATEGORIES:Events at Chapter 64
END:VEVENT
BEGIN:VEVENT
DTSTART;TZID=Asia/Kolkata:20260313T103000
DTEND;TZID=Asia/Kolkata:20260313T120000
DTSTAMP:20260424T055952
CREATED:20260310T001533Z
LAST-MODIFIED:20260310T001534Z
UID:5188-1773397800-1773403200@mscamohali.com
SUMMARY:Common Digestive Problems in the Elderly
DESCRIPTION:Second Friday \n\n\n\nSpeaker: Dr. Arnav Aggarwal\, Consultant Gastroenterology
URL:https://mscamohali.com/w/event/common-digestive-problems-in-the-elderly/
LOCATION:Fortis\, Auditorium 3rd Floor\, Fortis Hospital\, Sahibzada Ajit Singh Nagar\, Punjab\, 160062\, India
END:VEVENT
BEGIN:VEVENT
DTSTART;TZID=Asia/Kolkata:20260314T000000
DTEND;TZID=Asia/Kolkata:20260314T000100
DTSTAMP:20260424T055952
CREATED:20260310T005120Z
LAST-MODIFIED:20260310T005121Z
UID:5201-1773446400-1773446460@mscamohali.com
SUMMARY:Life Insurance Awareness Camp
DESCRIPTION:Second Saturday \n\n\n\nSpeaker: Mr. Aman Bhushan Axis Max Life InsuranceLearning and Development Head
URL:https://mscamohali.com/w/event/life-insurance-awareness-camp/
LOCATION:LAF Centre\, MPPJ+8FQ\, Sector 68\, Sahibzada Ajit Singh Nagar\, Punjab 160062\, LAF Centre\, MPPJ+8FQ\, Sector 68\, Sahibzada Ajit Singh Nagar\, Punjab\, 160062\, India
CATEGORIES:Events at LAF Centre
END:VEVENT
BEGIN:VEVENT
DTSTART;TZID=Asia/Kolkata:20260315T103000
DTEND;TZID=Asia/Kolkata:20260315T123000
DTSTAMP:20260424T055952
CREATED:20260310T003402Z
LAST-MODIFIED:20260314T052208Z
UID:5197-1773570600-1773577800@mscamohali.com
SUMMARY:Cancer Awareness and Prevention
DESCRIPTION:Third Sunday \n\n\n\nSpeaker: Livasa Hospital
URL:https://mscamohali.com/w/event/cancer-awareness-and-prevention-2/
LOCATION:Livasa Hospital\, Livasa Hospital\, Ground Floor\, Ortho Elite Area\, Sector 71\, Sahibzada Ajit Singh Nagar\, Punjab\, 160071\, India
END:VEVENT
BEGIN:VEVENT
DTSTART;TZID=Asia/Kolkata:20260317T103000
DTEND;TZID=Asia/Kolkata:20260317T140000
DTSTAMP:20260424T055952
CREATED:20260310T015932Z
LAST-MODIFIED:20260310T015933Z
UID:5207-1773743400-1773756000@mscamohali.com
SUMMARY:Women's Day Celebration
DESCRIPTION:Join us for Women’s Day Celebration with Exciting games\, Dance\, & Masti. \n\n\n\nChief guest Dr Ashpi Aloona Dogra\, MBBS MS Obstetrics & Gynecology \n\n\n\nWomen of Worth Award Winner\, Founder & Director of Medstar Healthcare\, Secto 117\, TDI\, Mohali. \n\n\n\nAll are invited. Working lunch will be provided.
URL:https://mscamohali.com/w/event/womens-day-celebration/
LOCATION:Community Centre\, Phase 7\, Community Centre\, Phase 7\, Sahibzada Ajit Singh Nagar\, Punjab\, 160062\, India
CATEGORIES:Get-Together at Phase 7
END:VEVENT
BEGIN:VEVENT
DTSTART;TZID=Asia/Kolkata:20260319T160000
DTEND;TZID=Asia/Kolkata:20260319T173000
DTSTAMP:20260424T055952
CREATED:20260310T013003Z
LAST-MODIFIED:20260310T013004Z
UID:5205-1773936000-1773941400@mscamohali.com
SUMMARY:Chapter 64 Tambola
DESCRIPTION:Sale of Tambola tickets closes by 4.10 pm. Refreshment
URL:https://mscamohali.com/w/event/chapter-64-tambola-4/
LOCATION:Govt. Smart School\, Phase 10\, Govt. Smart School\, Phase 10\, Sahibzada Ajit Singh Nagar\, Punjab\, 160062\, India
CATEGORIES:Events at Chapter 64
END:VEVENT
BEGIN:VEVENT
DTSTART;TZID=Asia/Kolkata:20260321T103000
DTEND;TZID=Asia/Kolkata:20260321T120000
DTSTAMP:20260424T055952
CREATED:20260310T003035Z
LAST-MODIFIED:20260310T003036Z
UID:5194-1774089000-1774094400@mscamohali.com
SUMMARY:Talk on Graceful Ageing with Proper Protein
DESCRIPTION:Third Saturday \nTalk by Mrs. Narinder Kaur LM 1228 Mobile# 81462 55997  \n 
URL:https://mscamohali.com/w/event/talk-on-graceful-ageing-with-proper-protein/
LOCATION:LAF Centre\, MPPJ+8FQ\, Sector 68\, Sahibzada Ajit Singh Nagar\, Punjab 160062\, LAF Centre\, MPPJ+8FQ\, Sector 68\, Sahibzada Ajit Singh Nagar\, Punjab\, 160062\, India
CATEGORIES:Events at LAF Centre
END:VEVENT
BEGIN:VEVENT
DTSTART;TZID=Asia/Kolkata:20260328T160000
DTEND;TZID=Asia/Kolkata:20260328T180000
DTSTAMP:20260424T055952
CREATED:20260310T002005Z
LAST-MODIFIED:20260310T002006Z
UID:5190-1774713600-1774720800@mscamohali.com
SUMMARY:Sureeli-Sham (ਸੁਰੀਲੀ ਸ਼ਾਮ)
DESCRIPTION:Last Saturday of the month \n\n\n\nTopic of Songs/compositions: Hazoor\, Zanab\, Sahib \n\n\n\nFollowed by refreshments. \n\n\n\nEnquiry: Mr Jarnail Singh M: 9814614656Mrs Amrit Kaur M: 9914091209
URL:https://mscamohali.com/w/event/sureeli-sham-%e0%a8%b8%e0%a9%81%e0%a8%b0%e0%a9%80%e0%a8%b2%e0%a9%80-%e0%a8%b8%e0%a8%bc%e0%a8%be%e0%a8%ae-3/
LOCATION:LAF Centre\, MPPJ+8FQ\, Sector 68\, Sahibzada Ajit Singh Nagar\, Punjab 160062\, LAF Centre\, MPPJ+8FQ\, Sector 68\, Sahibzada Ajit Singh Nagar\, Punjab\, 160062\, India
CATEGORIES:Events at LAF Centre
END:VEVENT
BEGIN:VEVENT
DTSTART;TZID=Asia/Kolkata:20260402T160000
DTEND;TZID=Asia/Kolkata:20260402T173000
DTSTAMP:20260424T055952
CREATED:20260401T010241Z
LAST-MODIFIED:20260401T013401Z
UID:5265-1775145600-1775151000@mscamohali.com
SUMMARY:CHAPTER 68 Get-together
DESCRIPTION:Sale of Tambola tickets closes at 4:10 pm
URL:https://mscamohali.com/w/event/chapter-68-get-together-6/
LOCATION:Central Park Library\, Sector 69\, Mohali\, Central Park Library\, Sector 69\, Mohali\, Sahibzada Ajit Singh Nagar\, Punjab\, 160071\, India
CATEGORIES:Events at Chapter 68
END:VEVENT
BEGIN:VEVENT
DTSTART;TZID=Asia/Kolkata:20260403T103000
DTEND;TZID=Asia/Kolkata:20260403T120000
DTSTAMP:20260424T055952
CREATED:20260401T005612Z
LAST-MODIFIED:20260401T005613Z
UID:5262-1775212200-1775217600@mscamohali.com
SUMMARY:Why pay attention to dyspepsia: Constipation and Anemia
DESCRIPTION:Speaker: Dr Arunanshu Behera MBBS\, MS. Director HPB\, GI and General Surgery
URL:https://mscamohali.com/w/event/why-pay-attention-to-dyspepsia-constipation-and-anemia/
LOCATION:Shalby Multi-Speciality Hospital\, Shalby Hospital\, Phase 9\, Sector 63\, Sahibzada Ajit Singh Nagar\, Punjab\, 160062\, India
END:VEVENT
BEGIN:VEVENT
DTSTART;TZID=Asia/Kolkata:20260407T160000
DTEND;TZID=Asia/Kolkata:20260407T180000
DTSTAMP:20260424T055952
CREATED:20260310T002528Z
LAST-MODIFIED:20260401T124059Z
UID:5192-1775577600-1775584800@mscamohali.com
SUMMARY:Members Get-together Apr-2026
DESCRIPTION:First Tuesday\,  \nMembers Get-together\, Tambola\, Recreation\, Birthday Cake Cutting\, Introduction of new members. Refreshment. \n\n\nMembers get together invited Talk: Talk on Neurological Emergencies in Clinical Practice: Dr Iqbal Singh \n\n\n\nSale of Tambola tickets closes by 4:10 pm.
URL:https://mscamohali.com/w/event/members-get-together-apr-2026/
LOCATION:Community Centre\, Phase 7\, Community Centre\, Phase 7\, Sahibzada Ajit Singh Nagar\, Punjab\, 160062\, India
CATEGORIES:Get-Together at Phase 7
END:VEVENT
END:VCALENDAR