BEGIN:VCALENDAR
VERSION:2.0
PRODID:-//Mohali Senior Citizens Association - ECPv6.15.20//NONSGML v1.0//EN
CALSCALE:GREGORIAN
METHOD:PUBLISH
X-WR-CALNAME:Mohali Senior Citizens Association
X-ORIGINAL-URL:https://mscamohali.com/w
X-WR-CALDESC:Events for Mohali Senior Citizens Association
REFRESH-INTERVAL;VALUE=DURATION:PT1H
X-Robots-Tag:noindex
X-PUBLISHED-TTL:PT1H
BEGIN:VTIMEZONE
TZID:Asia/Kolkata
BEGIN:STANDARD
TZOFFSETFROM:+0530
TZOFFSETTO:+0530
TZNAME:IST
DTSTART:20240101T000000
END:STANDARD
END:VTIMEZONE
BEGIN:VEVENT
DTSTART;TZID=Asia/Kolkata:20251101T100000
DTEND;TZID=Asia/Kolkata:20251101T130000
DTSTAMP:20260424T072415
CREATED:20251021T110432Z
LAST-MODIFIED:20251029T090435Z
UID:3195-1761991200-1762002000@mscamohali.com
SUMMARY:MSCA 13th Dr A S Khehra Memorial Annual Sports Meet 2025
DESCRIPTION:Schedule for MSCA Sports 2025 for Table Tennis \nDate/Time     Event               Venue \n\n01/11/2025  10.00 am   Inauguration\n01/11/2025  10.00 am   Table Tennis\n\nThe prize distribution function will be held on 2nd December 2025 at Community Center\, Phase 7 Mohali.
URL:https://mscamohali.com/w/event/msca-13th-dr-a-s-khehra-memorial-annual-sports-meet-2025/
LOCATION:LAF Centre\, MPPJ+8FQ\, Sector 68\, Sahibzada Ajit Singh Nagar\, Punjab 160062\, LAF Centre\, MPPJ+8FQ\, Sector 68\, Sahibzada Ajit Singh Nagar\, Punjab\, 160062\, India
END:VEVENT
BEGIN:VEVENT
DTSTART;TZID=Asia/Kolkata:20251025T153000
DTEND;TZID=Asia/Kolkata:20251025T170000
DTSTAMP:20260424T072415
CREATED:20251017T170859Z
LAST-MODIFIED:20260130T123354Z
UID:3168-1761406200-1761411600@mscamohali.com
SUMMARY:Surilee Sham
DESCRIPTION:Any song on Appreciation or Taareef
URL:https://mscamohali.com/w/event/surilee-sham/
LOCATION:LAF Centre\, MPPJ+8FQ\, Sector 68\, Sahibzada Ajit Singh Nagar\, Punjab 160062\, LAF Centre\, MPPJ+8FQ\, Sector 68\, Sahibzada Ajit Singh Nagar\, Punjab\, 160062\, India
CATEGORIES:Events at LAF Centre
END:VEVENT
BEGIN:VEVENT
DTSTART;TZID=Asia/Kolkata:20251018T103000
DTEND;TZID=Asia/Kolkata:20251018T120000
DTSTAMP:20260424T072415
CREATED:20251016T145411Z
LAST-MODIFIED:20260130T123400Z
UID:3157-1760783400-1760788800@mscamohali.com
SUMMARY:Talk on Technology for Seniors
DESCRIPTION:Digital Literacy Made Easy \nTalk by S. Guldeep Singh \n 
URL:https://mscamohali.com/w/event/talk-on-technology-for-seniors/
LOCATION:LAF Centre\, MPPJ+8FQ\, Sector 68\, Sahibzada Ajit Singh Nagar\, Punjab 160062\, LAF Centre\, MPPJ+8FQ\, Sector 68\, Sahibzada Ajit Singh Nagar\, Punjab\, 160062\, India
CATEGORIES:Events at LAF Centre
END:VEVENT
BEGIN:VEVENT
DTSTART;TZID=Asia/Kolkata:20251017T103000
DTEND;TZID=Asia/Kolkata:20251017T120000
DTSTAMP:20260424T072415
CREATED:20251016T142417Z
LAST-MODIFIED:20251016T161752Z
UID:3150-1760697000-1760702400@mscamohali.com
SUMMARY:Talk on all you know about Vascular Health
DESCRIPTION:Talk by: Dr Ravul Jindal\, \nDirector – Vascular & Endovascular Surgery
URL:https://mscamohali.com/w/event/talk-on-all-you-know-about-vascular-health/
LOCATION:Fortis\, Auditorium 3rd Floor\, Fortis Hospital\, Sahibzada Ajit Singh Nagar\, Punjab\, 160062\, India
END:VEVENT
END:VCALENDAR