BEGIN:VCALENDAR
VERSION:2.0
PRODID:-//Mohali Senior Citizens Association - ECPv6.15.20//NONSGML v1.0//EN
CALSCALE:GREGORIAN
METHOD:PUBLISH
X-WR-CALNAME:Mohali Senior Citizens Association
X-ORIGINAL-URL:https://mscamohali.com/w
X-WR-CALDESC:Events for Mohali Senior Citizens Association
REFRESH-INTERVAL;VALUE=DURATION:PT1H
X-Robots-Tag:noindex
X-PUBLISHED-TTL:PT1H
BEGIN:VTIMEZONE
TZID:Asia/Kolkata
BEGIN:STANDARD
TZOFFSETFROM:+0530
TZOFFSETTO:+0530
TZNAME:IST
DTSTART:20240101T000000
END:STANDARD
END:VTIMEZONE
BEGIN:VEVENT
DTSTART;TZID=Asia/Kolkata:20251227T143000
DTEND;TZID=Asia/Kolkata:20251227T163000
DTSTAMP:20260425T213836
CREATED:20251130T093534Z
LAST-MODIFIED:20260130T123203Z
UID:4348-1766845800-1766853000@mscamohali.com
SUMMARY:Surilee Sham
DESCRIPTION:Being end of the year meet\, any Shabad\, Bhajan. 
URL:https://mscamohali.com/w/event/surilee-sham-3/
LOCATION:LAF Centre\, MPPJ+8FQ\, Sector 68\, Sahibzada Ajit Singh Nagar\, Punjab 160062\, LAF Centre\, MPPJ+8FQ\, Sector 68\, Sahibzada Ajit Singh Nagar\, Punjab\, 160062\, India
CATEGORIES:Events at LAF Centre
ATTACH;FMTTYPE=image/png:https://mscamohali.com/w/wp-content/uploads/2025/11/image_of_singing_program_of_senior_citizens_1.png
END:VEVENT
END:VCALENDAR