BEGIN:VCALENDAR
VERSION:2.0
PRODID:-//Mohali Senior Citizens Association - ECPv6.15.20//NONSGML v1.0//EN
CALSCALE:GREGORIAN
METHOD:PUBLISH
X-ORIGINAL-URL:https://mscamohali.com/w
X-WR-CALDESC:Events for Mohali Senior Citizens Association
REFRESH-INTERVAL;VALUE=DURATION:PT1H
X-Robots-Tag:noindex
X-PUBLISHED-TTL:PT1H
BEGIN:VTIMEZONE
TZID:Asia/Kolkata
BEGIN:STANDARD
TZOFFSETFROM:+0530
TZOFFSETTO:+0530
TZNAME:IST
DTSTART:20240101T000000
END:STANDARD
END:VTIMEZONE
BEGIN:VEVENT
DTSTART;TZID=Asia/Kolkata:20251108T103000
DTEND;TZID=Asia/Kolkata:20251108T120000
DTSTAMP:20260425T213810
CREATED:20251031T142941Z
LAST-MODIFIED:20260130T123313Z
UID:3990-1762597800-1762603200@mscamohali.com
SUMMARY:Hands-on Training on Al Tools
DESCRIPTION:Speaker: Mr Tanvir Singh\, Project Manager at\nSpoken Tutorial\, IIT Mumbai
URL:https://mscamohali.com/w/event/hands-on-training-on-al-tools/
LOCATION:LAF Centre\, MPPJ+8FQ\, Sector 68\, Sahibzada Ajit Singh Nagar\, Punjab 160062\, LAF Centre\, MPPJ+8FQ\, Sector 68\, Sahibzada Ajit Singh Nagar\, Punjab\, 160062\, India
CATEGORIES:Events at LAF Centre
END:VEVENT
BEGIN:VEVENT
DTSTART;TZID=Asia/Kolkata:20251115T103000
DTEND;TZID=Asia/Kolkata:20251115T130000
DTSTAMP:20260425T213810
CREATED:20251110T042201Z
LAST-MODIFIED:20260130T123257Z
UID:4096-1763202600-1763211600@mscamohali.com
SUMMARY:Talk on Kissa Sassi Punnu
DESCRIPTION:Talk by Shri J S Ramgarhia
URL:https://mscamohali.com/w/event/talk-on-kissa-sassi-punnu/
LOCATION:LAF Centre\, MPPJ+8FQ\, Sector 68\, Sahibzada Ajit Singh Nagar\, Punjab 160062\, LAF Centre\, MPPJ+8FQ\, Sector 68\, Sahibzada Ajit Singh Nagar\, Punjab\, 160062\, India
CATEGORIES:Events at LAF Centre
END:VEVENT
BEGIN:VEVENT
DTSTART;TZID=Asia/Kolkata:20251122T150000
DTEND;TZID=Asia/Kolkata:20251122T170000
DTSTAMP:20260425T213810
CREATED:20251111T091037Z
LAST-MODIFIED:20260130T123245Z
UID:4145-1763823600-1763830800@mscamohali.com
SUMMARY:Surilee Sham
DESCRIPTION:Any song about a number of counting. For example\, ek\, do\, sau\, hazaar\, etc.
URL:https://mscamohali.com/w/event/surilee-sham-2/
LOCATION:LAF Centre\, MPPJ+8FQ\, Sector 68\, Sahibzada Ajit Singh Nagar\, Punjab 160062\, LAF Centre\, MPPJ+8FQ\, Sector 68\, Sahibzada Ajit Singh Nagar\, Punjab\, 160062\, India
CATEGORIES:Events at LAF Centre
END:VEVENT
END:VCALENDAR