BEGIN:VCALENDAR
VERSION:2.0
PRODID:-//Mohali Senior Citizens Association - ECPv6.15.20//NONSGML v1.0//EN
CALSCALE:GREGORIAN
METHOD:PUBLISH
X-ORIGINAL-URL:https://mscamohali.com/w
X-WR-CALDESC:Events for Mohali Senior Citizens Association
REFRESH-INTERVAL;VALUE=DURATION:PT1H
X-Robots-Tag:noindex
X-PUBLISHED-TTL:PT1H
BEGIN:VTIMEZONE
TZID:Asia/Kolkata
BEGIN:STANDARD
TZOFFSETFROM:+0530
TZOFFSETTO:+0530
TZNAME:IST
DTSTART:20250101T000000
END:STANDARD
END:VTIMEZONE
BEGIN:VEVENT
DTSTART;TZID=Asia/Kolkata:20260425T163000
DTEND;TZID=Asia/Kolkata:20260425T180000
DTSTAMP:20260423T191329
CREATED:20260401T012700Z
LAST-MODIFIED:20260401T012701Z
UID:5279-1777134600-1777140000@mscamohali.com
SUMMARY:Sureeli-Sham (ਸੁਰੀਲੀ ਸ਼ਾਮ)
DESCRIPTION:Last Saturday of the month \n\n\n\nTopic of Songs/compositions: Dhup/Chhan/Sunehri. \n\n\n\nFollowed by refreshments. \n\n\n\nEnquiry: Mr Jarnail Singh M: 9814614656Mrs Amrit Kaur M: 9914091209
URL:https://mscamohali.com/w/event/sureeli-sham-%e0%a8%b8%e0%a9%81%e0%a8%b0%e0%a9%80%e0%a8%b2%e0%a9%80-%e0%a8%b8%e0%a8%bc%e0%a8%be%e0%a8%ae-4/
LOCATION:LAF Centre\, MPPJ+8FQ\, Sector 68\, Sahibzada Ajit Singh Nagar\, Punjab 160062\, LAF Centre\, MPPJ+8FQ\, Sector 68\, Sahibzada Ajit Singh Nagar\, Punjab\, 160062\, India
CATEGORIES:Events at LAF Centre
END:VEVENT
END:VCALENDAR