BEGIN:VCALENDAR
VERSION:2.0
PRODID:-//Mohali Senior Citizens Association - ECPv6.15.20//NONSGML v1.0//EN
CALSCALE:GREGORIAN
METHOD:PUBLISH
X-ORIGINAL-URL:https://mscamohali.com/w
X-WR-CALDESC:Events for Mohali Senior Citizens Association
REFRESH-INTERVAL;VALUE=DURATION:PT1H
X-Robots-Tag:noindex
X-PUBLISHED-TTL:PT1H
BEGIN:VTIMEZONE
TZID:Asia/Kolkata
BEGIN:STANDARD
TZOFFSETFROM:+0530
TZOFFSETTO:+0530
TZNAME:IST
DTSTART:20250101T000000
END:STANDARD
END:VTIMEZONE
BEGIN:VEVENT
DTSTART;TZID=Asia/Kolkata:20260410T103000
DTEND;TZID=Asia/Kolkata:20260410T120000
DTSTAMP:20260423T214916
CREATED:20260401T012138Z
LAST-MODIFIED:20260408T174057Z
UID:5273-1775817000-1775822400@mscamohali.com
SUMMARY:Kidney Care & Organ Donation Talk
DESCRIPTION:Details: Speaker: Dr Sahil Rally\, Consultant – Organ Transplant Surgery
URL:https://mscamohali.com/w/event/kidney-care-organ-donation-talk/
LOCATION:Fortis\, Auditorium 3rd Floor\, Fortis Hospital\, Sahibzada Ajit Singh Nagar\, Punjab\, 160062\, India
END:VEVENT
END:VCALENDAR