BEGIN:VCALENDAR
VERSION:2.0
PRODID:-//Mohali Senior Citizens Association - ECPv6.15.20//NONSGML v1.0//EN
CALSCALE:GREGORIAN
METHOD:PUBLISH
X-WR-CALNAME:Mohali Senior Citizens Association
X-ORIGINAL-URL:https://mscamohali.com/w
X-WR-CALDESC:Events for Mohali Senior Citizens Association
REFRESH-INTERVAL;VALUE=DURATION:PT1H
X-Robots-Tag:noindex
X-PUBLISHED-TTL:PT1H
BEGIN:VTIMEZONE
TZID:Asia/Kolkata
BEGIN:STANDARD
TZOFFSETFROM:+0530
TZOFFSETTO:+0530
TZNAME:IST
DTSTART:20250101T000000
END:STANDARD
END:VTIMEZONE
BEGIN:VEVENT
DTSTART;TZID=Asia/Kolkata:20260408T160000
DTEND;TZID=Asia/Kolkata:20260408T180000
DTSTAMP:20260423T215312
CREATED:20260401T010830Z
LAST-MODIFIED:20260401T010831Z
UID:5269-1775664000-1775671200@mscamohali.com
SUMMARY:Chapter 3 Get-together
DESCRIPTION:Second Wednesday \nChapter 3 – Monthly Meet \nA Special Talk by: Max Hospital \n\nTambola @ 4:00 PM\nInvited talk\nSeasonal Refreshments\n\nChapter Head
URL:https://mscamohali.com/w/event/chapter-3-get-together-5/
LOCATION:Library\, Rose Garden\, Phase 3B-1\, S.A.S. Nagar\, Punjab.\, Library\, Rose Garden\, Phase 3B-1\, Sahibzada Ajit Singh Nagar\, Punjab\, 160071\, India
CATEGORIES:Events at Chapter 3
END:VEVENT
END:VCALENDAR