BEGIN:VCALENDAR
VERSION:2.0
PRODID:-//Mohali Senior Citizens Association - ECPv6.15.20//NONSGML v1.0//EN
CALSCALE:GREGORIAN
METHOD:PUBLISH
X-WR-CALNAME:Mohali Senior Citizens Association
X-ORIGINAL-URL:https://mscamohali.com/w
X-WR-CALDESC:Events for Mohali Senior Citizens Association
REFRESH-INTERVAL;VALUE=DURATION:PT1H
X-Robots-Tag:noindex
X-PUBLISHED-TTL:PT1H
BEGIN:VTIMEZONE
TZID:Asia/Kolkata
BEGIN:STANDARD
TZOFFSETFROM:+0530
TZOFFSETTO:+0530
TZNAME:IST
DTSTART:20250101T000000
END:STANDARD
END:VTIMEZONE
BEGIN:VEVENT
DTSTART;TZID=Asia/Kolkata:20260403T103000
DTEND;TZID=Asia/Kolkata:20260403T120000
DTSTAMP:20260423T214514
CREATED:20260401T005612Z
LAST-MODIFIED:20260401T005613Z
UID:5262-1775212200-1775217600@mscamohali.com
SUMMARY:Why pay attention to dyspepsia: Constipation and Anemia
DESCRIPTION:Speaker: Dr Arunanshu Behera MBBS\, MS. Director HPB\, GI and General Surgery
URL:https://mscamohali.com/w/event/why-pay-attention-to-dyspepsia-constipation-and-anemia/
LOCATION:Shalby Multi-Speciality Hospital\, Shalby Hospital\, Phase 9\, Sector 63\, Sahibzada Ajit Singh Nagar\, Punjab\, 160062\, India
END:VEVENT
END:VCALENDAR