BEGIN:VCALENDAR
VERSION:2.0
PRODID:-//Mohali Senior Citizens Association - ECPv6.15.20//NONSGML v1.0//EN
CALSCALE:GREGORIAN
METHOD:PUBLISH
X-WR-CALNAME:Mohali Senior Citizens Association
X-ORIGINAL-URL:https://mscamohali.com/w
X-WR-CALDESC:Events for Mohali Senior Citizens Association
REFRESH-INTERVAL;VALUE=DURATION:PT1H
X-Robots-Tag:noindex
X-PUBLISHED-TTL:PT1H
BEGIN:VTIMEZONE
TZID:Asia/Kolkata
BEGIN:STANDARD
TZOFFSETFROM:+0530
TZOFFSETTO:+0530
TZNAME:IST
DTSTART:20250101T000000
END:STANDARD
END:VTIMEZONE
BEGIN:VEVENT
DTSTART;TZID=Asia/Kolkata:20260317T103000
DTEND;TZID=Asia/Kolkata:20260317T140000
DTSTAMP:20260423T232244
CREATED:20260310T015932Z
LAST-MODIFIED:20260310T015933Z
UID:5207-1773743400-1773756000@mscamohali.com
SUMMARY:Women's Day Celebration
DESCRIPTION:Join us for Women’s Day Celebration with Exciting games\, Dance\, & Masti. \n\n\n\nChief guest Dr Ashpi Aloona Dogra\, MBBS MS Obstetrics & Gynecology \n\n\n\nWomen of Worth Award Winner\, Founder & Director of Medstar Healthcare\, Secto 117\, TDI\, Mohali. \n\n\n\nAll are invited. Working lunch will be provided.
URL:https://mscamohali.com/w/event/womens-day-celebration/
LOCATION:Community Centre\, Phase 7\, Community Centre\, Phase 7\, Sahibzada Ajit Singh Nagar\, Punjab\, 160062\, India
CATEGORIES:Get-Together at Phase 7
END:VEVENT
END:VCALENDAR