BEGIN:VCALENDAR
VERSION:2.0
PRODID:-//Mohali Senior Citizens Association - ECPv6.15.20//NONSGML v1.0//EN
CALSCALE:GREGORIAN
METHOD:PUBLISH
X-ORIGINAL-URL:https://mscamohali.com/w
X-WR-CALDESC:Events for Mohali Senior Citizens Association
REFRESH-INTERVAL;VALUE=DURATION:PT1H
X-Robots-Tag:noindex
X-PUBLISHED-TTL:PT1H
BEGIN:VTIMEZONE
TZID:Asia/Kolkata
BEGIN:STANDARD
TZOFFSETFROM:+0530
TZOFFSETTO:+0530
TZNAME:IST
DTSTART:20250101T000000
END:STANDARD
END:VTIMEZONE
BEGIN:VEVENT
DTSTART;TZID=Asia/Kolkata:20260315T103000
DTEND;TZID=Asia/Kolkata:20260315T123000
DTSTAMP:20260423T232427
CREATED:20260310T003402Z
LAST-MODIFIED:20260314T052208Z
UID:5197-1773570600-1773577800@mscamohali.com
SUMMARY:Cancer Awareness and Prevention
DESCRIPTION:Third Sunday \n\n\n\nSpeaker: Livasa Hospital
URL:https://mscamohali.com/w/event/cancer-awareness-and-prevention-2/
LOCATION:Livasa Hospital\, Livasa Hospital\, Ground Floor\, Ortho Elite Area\, Sector 71\, Sahibzada Ajit Singh Nagar\, Punjab\, 160071\, India
END:VEVENT
END:VCALENDAR